BEGIN:VCALENDAR
VERSION:2.0
PRODID:-//Remme-Los - ECPv6.15.20//NONSGML v1.0//EN
CALSCALE:GREGORIAN
METHOD:PUBLISH
X-WR-CALNAME:Remme-Los
X-ORIGINAL-URL:https://www.remme-los.co.za
X-WR-CALDESC:Events for Remme-Los
REFRESH-INTERVAL;VALUE=DURATION:PT1H
X-Robots-Tag:noindex
X-PUBLISHED-TTL:PT1H
BEGIN:VTIMEZONE
TZID:Africa/Johannesburg
BEGIN:STANDARD
TZOFFSETFROM:+0200
TZOFFSETTO:+0200
TZNAME:SAST
DTSTART:20250101T000000
END:STANDARD
END:VTIMEZONE
BEGIN:VEVENT
DTSTART;TZID=Africa/Johannesburg:20260606T100000
DTEND;TZID=Africa/Johannesburg:20260606T170000
DTSTAMP:20260422T133623
CREATED:20260422T101753Z
LAST-MODIFIED:20260422T101830Z
UID:1713-1780740000-1780765200@www.remme-los.co.za
SUMMARY:Remme-Los Fund Raiser
DESCRIPTION:Join Us for a Fun Day & Make a Difference! \nThe Delville Germiston Bowls Club is proud to host a Fundraiser Bowls Day in support of Remme-Los Self-Help Centre – a non-profit organisation providing assisted living for individuals with disabilities\, specialising in spinal cord injuries. \nCost: \nR200 per person (R800 per team of 4)\n✔️ Includes tea\, lunch & one raffle ticket per entrant. \nNo experience needed!\nWhether you’re a seasoned player or just looking for a fun day out\, everyone is welcome. Bring your friends\, family\, or colleagues and enjoy a meaningful day together. \n📌 RSVP by 29 May 2026\n📌 Booking & payment required in advance \n📞 Wilna: 011 828 7002\n📧 remme-los@absamail.co.za \n🤝 We also welcome donations and sponsorships for prizes. \nLet’s come together to support a truly impactful cause 💚
URL:https://www.remme-los.co.za/event/remme-los-fund-raiser/
LOCATION:Delville Germiston Bowls Club\, Delville Road South\, Germiston\, Gauteng\, South Africa
ATTACH;FMTTYPE=image/png:https://www.remme-los.co.za/wp-content/uploads/2026/04/Germiston-Bowls-Fund-Raiser.png
END:VEVENT
END:VCALENDAR